BEGIN:VCALENDAR
VERSION:2.0
PRODID:-//No Blog Title Set Test-Seite - ECPv6.13.2.1//NONSGML v1.0//EN
CALSCALE:GREGORIAN
METHOD:PUBLISH
X-ORIGINAL-URL:http://test.mynbv.de
X-WR-CALDESC:Veranstaltungen für No Blog Title Set Test-Seite
REFRESH-INTERVAL;VALUE=DURATION:PT1H
X-Robots-Tag:noindex
X-PUBLISHED-TTL:PT1H
BEGIN:VTIMEZONE
TZID:Europe/Berlin
BEGIN:DAYLIGHT
TZOFFSETFROM:+0100
TZOFFSETTO:+0200
TZNAME:CEST
DTSTART:20230326T010000
END:DAYLIGHT
BEGIN:STANDARD
TZOFFSETFROM:+0200
TZOFFSETTO:+0100
TZNAME:CET
DTSTART:20231029T010000
END:STANDARD
END:VTIMEZONE
BEGIN:VEVENT
DTSTART;TZID=Europe/Berlin:20230210T180000
DTEND;TZID=Europe/Berlin:20230212T130000
DTSTAMP:20260423T025348
CREATED:20230111T175026Z
LAST-MODIFIED:20230111T175026Z
UID:3036-1676052000-1676206800@test.mynbv.de
SUMMARY:Ausbildungslehrgang Schiedsrichter C
DESCRIPTION:Ausbildungslehrgang zum Erwerb der Schiedsrichter C-Lizenz
URL:http://test.mynbv.de/event/ausbildungslehrgang-schiedsrichter-c/
LOCATION:Sportschule Wedau\, Friedrich-Alfred-Str. 15\, Duisburg\, NRW\, 47055\, Deutschland
CATEGORIES:Termine
END:VEVENT
END:VCALENDAR