BEGIN:VCALENDAR
VERSION:2.0
PRODID:-//No Blog Title Set Test-Seite - ECPv6.13.2.1//NONSGML v1.0//EN
CALSCALE:GREGORIAN
METHOD:PUBLISH
X-WR-CALNAME:No Blog Title Set Test-Seite
X-ORIGINAL-URL:http://test.mynbv.de
X-WR-CALDESC:Veranstaltungen für No Blog Title Set Test-Seite
REFRESH-INTERVAL;VALUE=DURATION:PT1H
X-Robots-Tag:noindex
X-PUBLISHED-TTL:PT1H
BEGIN:VTIMEZONE
TZID:Europe/Berlin
BEGIN:DAYLIGHT
TZOFFSETFROM:+0100
TZOFFSETTO:+0200
TZNAME:CEST
DTSTART:20230326T010000
END:DAYLIGHT
BEGIN:STANDARD
TZOFFSETFROM:+0200
TZOFFSETTO:+0100
TZNAME:CET
DTSTART:20231029T010000
END:STANDARD
END:VTIMEZONE
BEGIN:VEVENT
DTSTART;TZID=Europe/Berlin:20230604T090000
DTEND;TZID=Europe/Berlin:20230604T150000
DTSTAMP:20260422T201108
CREATED:20220801T181745Z
LAST-MODIFIED:20220930T122235Z
UID:2815-1685869200-1685890800@test.mynbv.de
SUMMARY:4. Spieltag - NBV Jugendrangliste 2023 (Osnabrück)
DESCRIPTION:Anlage des Osnabrücker M.-C. von 1963 e.V.  //  2 Kombirunden ( Abt.1 & Abt.2 ) \n>> ZUR AUSCHREIBUNG
URL:http://test.mynbv.de/event/4-spieltag-nbv-jugendrangliste-2022-osnabrueck/
LOCATION:Minigolf am Rubbenbruchsee\, Barenteich 2A\, Osnabrück\, Nordrheinwestfalen\, 49076\, Deutschland
CATEGORIES:Termine
ORGANIZER;CN="NBV Jugendausschuss":MAILTO:ott-nbv@gmx.de
END:VEVENT
BEGIN:VEVENT
DTSTART;VALUE=DATE:20230610
DTEND;VALUE=DATE:20230612
DTSTAMP:20260422T201108
CREATED:20190709T124234Z
LAST-MODIFIED:20220930T123334Z
UID:267-1686355200-1686527999@test.mynbv.de
SUMMARY:4. Spieltag NBV Kombiligen
DESCRIPTION:4. Spieltag NBV Kombiligen
URL:http://test.mynbv.de/event/4-spieltag/
CATEGORIES:Termine
END:VEVENT
END:VCALENDAR