BEGIN:VCALENDAR
VERSION:2.0
PRODID:-//No Blog Title Set Test-Seite - ECPv6.13.2.1//NONSGML v1.0//EN
CALSCALE:GREGORIAN
METHOD:PUBLISH
X-ORIGINAL-URL:http://test.mynbv.de
X-WR-CALDESC:Veranstaltungen für No Blog Title Set Test-Seite
REFRESH-INTERVAL;VALUE=DURATION:PT1H
X-Robots-Tag:noindex
X-PUBLISHED-TTL:PT1H
BEGIN:VTIMEZONE
TZID:Europe/Berlin
BEGIN:DAYLIGHT
TZOFFSETFROM:+0100
TZOFFSETTO:+0200
TZNAME:CEST
DTSTART:20230326T010000
END:DAYLIGHT
BEGIN:STANDARD
TZOFFSETFROM:+0200
TZOFFSETTO:+0100
TZNAME:CET
DTSTART:20231029T010000
END:STANDARD
END:VTIMEZONE
BEGIN:VEVENT
DTSTART;VALUE=DATE:20230708
DTEND;VALUE=DATE:20230710
DTSTAMP:20260422T181721
CREATED:20230104T153728Z
LAST-MODIFIED:20230104T153728Z
UID:3019-1688774400-1688947199@test.mynbv.de
SUMMARY:WDM Abt.1 & 2
DESCRIPTION:
URL:http://test.mynbv.de/event/wdm-abt-1-2/
CATEGORIES:Termine
END:VEVENT
BEGIN:VEVENT
DTSTART;VALUE=DATE:20230729
DTEND;VALUE=DATE:20230731
DTSTAMP:20260422T181721
CREATED:20171009T124658Z
LAST-MODIFIED:20220930T123441Z
UID:270-1690588800-1690761599@test.mynbv.de
SUMMARY:5. Spieltag NBV Kombiligen
DESCRIPTION:5. Spieltag NBV Kombiligen
URL:http://test.mynbv.de/event/5-spieltag-nbv-kombiligen/
CATEGORIES:Termine
END:VEVENT
END:VCALENDAR