BEGIN:VCALENDAR
VERSION:2.0
PRODID:-//No Blog Title Set Test-Seite - ECPv6.13.2.1//NONSGML v1.0//EN
CALSCALE:GREGORIAN
METHOD:PUBLISH
X-WR-CALNAME:No Blog Title Set Test-Seite
X-ORIGINAL-URL:http://test.mynbv.de
X-WR-CALDESC:Veranstaltungen für No Blog Title Set Test-Seite
REFRESH-INTERVAL;VALUE=DURATION:PT1H
X-Robots-Tag:noindex
X-PUBLISHED-TTL:PT1H
BEGIN:VTIMEZONE
TZID:Europe/Berlin
BEGIN:DAYLIGHT
TZOFFSETFROM:+0100
TZOFFSETTO:+0200
TZNAME:CEST
DTSTART:20230326T010000
END:DAYLIGHT
BEGIN:STANDARD
TZOFFSETFROM:+0200
TZOFFSETTO:+0100
TZNAME:CET
DTSTART:20231029T010000
END:STANDARD
END:VTIMEZONE
BEGIN:VEVENT
DTSTART;TZID=Europe/Berlin:20230910T090000
DTEND;TZID=Europe/Berlin:20230910T160000
DTSTAMP:20260422T151157
CREATED:20230725T121704Z
LAST-MODIFIED:20230725T121750Z
UID:3224-1694336400-1694361600@test.mynbv.de
SUMMARY:1. Spieltag - NBV Jugendrangliste 2024 (Neviges)
DESCRIPTION:Anlage der Minigolfunion Neviges-Odenthal  //  4 Runden ( Abt.1 ) \n>> ZUR AUSCHREIBUNG
URL:http://test.mynbv.de/event/1-spieltag-nbv-jugendrangliste-2024-neviges/
END:VEVENT
END:VCALENDAR