BEGIN:VCALENDAR
VERSION:2.0
PRODID:-//No Blog Title Set Test-Seite - ECPv6.13.2.1//NONSGML v1.0//EN
CALSCALE:GREGORIAN
METHOD:PUBLISH
X-WR-CALNAME:No Blog Title Set Test-Seite
X-ORIGINAL-URL:http://test.mynbv.de
X-WR-CALDESC:Veranstaltungen für No Blog Title Set Test-Seite
REFRESH-INTERVAL;VALUE=DURATION:PT1H
X-Robots-Tag:noindex
X-PUBLISHED-TTL:PT1H
BEGIN:VTIMEZONE
TZID:Europe/Berlin
BEGIN:DAYLIGHT
TZOFFSETFROM:+0100
TZOFFSETTO:+0200
TZNAME:CEST
DTSTART:20230326T010000
END:DAYLIGHT
BEGIN:STANDARD
TZOFFSETFROM:+0200
TZOFFSETTO:+0100
TZNAME:CET
DTSTART:20231029T010000
END:STANDARD
END:VTIMEZONE
BEGIN:VEVENT
DTSTART;VALUE=DATE:20231110
DTEND;VALUE=DATE:20231113
DTSTAMP:20260422T121058
CREATED:20230102T183231Z
LAST-MODIFIED:20231109T104052Z
UID:2998-1699574400-1699833599@test.mynbv.de
SUMMARY:NBV Jugend - Kaderlehrgang
DESCRIPTION:
URL:http://test.mynbv.de/event/nbv-jugend-kaderlehrgang-3/
LOCATION:Sportschule Wedau\, Friedrich-Alfred-Str. 15\, Duisburg\, NRW\, 47055\, Deutschland
CATEGORIES:Termine
ORGANIZER;CN="NBV Jugendausschuss":MAILTO:ott-nbv@gmx.de
END:VEVENT
END:VCALENDAR