BEGIN:VCALENDAR
VERSION:2.0
PRODID:-//No Blog Title Set Test-Seite - ECPv6.13.2.1//NONSGML v1.0//EN
CALSCALE:GREGORIAN
METHOD:PUBLISH
X-ORIGINAL-URL:http://test.mynbv.de
X-WR-CALDESC:Veranstaltungen für No Blog Title Set Test-Seite
REFRESH-INTERVAL;VALUE=DURATION:PT1H
X-Robots-Tag:noindex
X-PUBLISHED-TTL:PT1H
BEGIN:VTIMEZONE
TZID:Europe/Berlin
BEGIN:DAYLIGHT
TZOFFSETFROM:+0100
TZOFFSETTO:+0200
TZNAME:CEST
DTSTART:20240331T010000
END:DAYLIGHT
BEGIN:STANDARD
TZOFFSETFROM:+0200
TZOFFSETTO:+0100
TZNAME:CET
DTSTART:20241027T010000
END:STANDARD
END:VTIMEZONE
BEGIN:VEVENT
DTSTART;VALUE=DATE:20240127
DTEND;VALUE=DATE:20240129
DTSTAMP:20260422T085733
CREATED:20180829T101146Z
LAST-MODIFIED:20231109T103942Z
UID:1718-1706313600-1706486399@test.mynbv.de
SUMMARY:Turnierleiterlehrgang
DESCRIPTION:Lehrgang zur Erteilung der Turnierleiterlizenz \n 
URL:http://test.mynbv.de/event/turnierleiterlehrgang-2/
LOCATION:Sportschule Wedau\, Friedrich-Alfred-Str. 15\, Duisburg\, NRW\, 47055\, Deutschland
CATEGORIES:Termine
ORGANIZER;CN="Sebastian von Block":MAILTO:sebastianvonblock@googlemail.com
END:VEVENT
END:VCALENDAR