BEGIN:VCALENDAR
VERSION:2.0
PRODID:-//No Blog Title Set Test-Seite - ECPv6.13.2.1//NONSGML v1.0//EN
CALSCALE:GREGORIAN
METHOD:PUBLISH
X-WR-CALNAME:No Blog Title Set Test-Seite
X-ORIGINAL-URL:http://test.mynbv.de
X-WR-CALDESC:Veranstaltungen für No Blog Title Set Test-Seite
REFRESH-INTERVAL;VALUE=DURATION:PT1H
X-Robots-Tag:noindex
X-PUBLISHED-TTL:PT1H
BEGIN:VTIMEZONE
TZID:Europe/Berlin
BEGIN:DAYLIGHT
TZOFFSETFROM:+0100
TZOFFSETTO:+0200
TZNAME:CEST
DTSTART:20240331T010000
END:DAYLIGHT
BEGIN:STANDARD
TZOFFSETFROM:+0200
TZOFFSETTO:+0100
TZNAME:CET
DTSTART:20241027T010000
END:STANDARD
END:VTIMEZONE
BEGIN:VEVENT
DTSTART;TZID=Europe/Berlin:20240202T180000
DTEND;TZID=Europe/Berlin:20240204T130000
DTSTAMP:20260422T071031
CREATED:20240121T090106Z
LAST-MODIFIED:20240210T152924Z
UID:3259-1706896800-1707051600@test.mynbv.de
SUMMARY:NBV Jugend - Kaderlehrgang
DESCRIPTION:
URL:http://test.mynbv.de/event/nbv-jugend-kaderlehrgang-4/
LOCATION:Sportschule Wedau\, Friedrich-Alfred-Str. 15\, Duisburg\, NRW\, 47055\, Deutschland
CATEGORIES:NBV Jugend - Termine,Termine
ORGANIZER;CN="NBV Jugendausschuss":MAILTO:ott-nbv@gmx.de
END:VEVENT
BEGIN:VEVENT
DTSTART;VALUE=DATE:20240225
DTEND;VALUE=DATE:20240226
DTSTAMP:20260422T071031
CREATED:20240102T145158Z
LAST-MODIFIED:20240211T130323Z
UID:3017-1708819200-1708905599@test.mynbv.de
SUMMARY:NBV-Hauptversammlung 2024
DESCRIPTION:  \nHVs der Abt. 1 und 2 ab 13.30 Uhr \nHauptversammlung NBV ab 15.00 Uhr
URL:http://test.mynbv.de/event/nbv-hauptversammlung-2023/
END:VEVENT
END:VCALENDAR