BEGIN:VCALENDAR
VERSION:2.0
PRODID:-//No Blog Title Set Test-Seite - ECPv6.13.2.1//NONSGML v1.0//EN
CALSCALE:GREGORIAN
METHOD:PUBLISH
X-ORIGINAL-URL:http://test.mynbv.de
X-WR-CALDESC:Veranstaltungen für No Blog Title Set Test-Seite
REFRESH-INTERVAL;VALUE=DURATION:PT1H
X-Robots-Tag:noindex
X-PUBLISHED-TTL:PT1H
BEGIN:VTIMEZONE
TZID:Europe/Berlin
BEGIN:DAYLIGHT
TZOFFSETFROM:+0100
TZOFFSETTO:+0200
TZNAME:CEST
DTSTART:20240331T010000
END:DAYLIGHT
BEGIN:STANDARD
TZOFFSETFROM:+0200
TZOFFSETTO:+0100
TZNAME:CET
DTSTART:20241027T010000
END:STANDARD
END:VTIMEZONE
BEGIN:VEVENT
DTSTART;TZID=Europe/Berlin:20240404T080000
DTEND;TZID=Europe/Berlin:20240406T170000
DTSTAMP:20260422T035449
CREATED:20240210T152653Z
LAST-MODIFIED:20240210T152907Z
UID:3353-1712217600-1712422800@test.mynbv.de
SUMMARY:Jugendländerpokal & U23 Wettkampf 2024
DESCRIPTION:
URL:http://test.mynbv.de/event/jugendlaenderpokal-u23-wettkampf-2024/
LOCATION:Minigolf am Mainlandbad\, Rudolf-Harbig-Platz 3\, Höchberg\, Bayern\, 97204
CATEGORIES:NBV Jugend - Termine,Termine
END:VEVENT
END:VCALENDAR