BEGIN:VCALENDAR
VERSION:2.0
PRODID:-//No Blog Title Set Test-Seite - ECPv6.13.2.1//NONSGML v1.0//EN
CALSCALE:GREGORIAN
METHOD:PUBLISH
X-ORIGINAL-URL:http://test.mynbv.de
X-WR-CALDESC:Veranstaltungen für No Blog Title Set Test-Seite
REFRESH-INTERVAL;VALUE=DURATION:PT1H
X-Robots-Tag:noindex
X-PUBLISHED-TTL:PT1H
BEGIN:VTIMEZONE
TZID:Europe/Berlin
BEGIN:DAYLIGHT
TZOFFSETFROM:+0100
TZOFFSETTO:+0200
TZNAME:CEST
DTSTART:20240331T010000
END:DAYLIGHT
BEGIN:STANDARD
TZOFFSETFROM:+0200
TZOFFSETTO:+0100
TZNAME:CET
DTSTART:20241027T010000
END:STANDARD
END:VTIMEZONE
BEGIN:VEVENT
DTSTART;TZID=Europe/Berlin:20240703T080000
DTEND;TZID=Europe/Berlin:20240706T180000
DTSTAMP:20260421T224107
CREATED:20240210T152737Z
LAST-MODIFIED:20240210T152851Z
UID:3356-1719993600-1720288800@test.mynbv.de
SUMMARY:Deutsche Jugendmeisterschaften 2024
DESCRIPTION:
URL:http://test.mynbv.de/event/deutsche-jugendmeisterschaften-2024/
LOCATION:Minigolf-Treff Bildstock\, Spieser Str. 21a\, Friedrichsthal\, Saarland\, 66299
CATEGORIES:NBV Jugend - Termine,Termine
END:VEVENT
BEGIN:VEVENT
DTSTART;VALUE=DATE:20240713
DTEND;VALUE=DATE:20240715
DTSTAMP:20260421T224107
CREATED:20240213T071720Z
LAST-MODIFIED:20240213T071720Z
UID:3370-1720828800-1721001599@test.mynbv.de
SUMMARY:WDM-Endrunden
DESCRIPTION:Minigolf in Köln beim ACR / Miniaturgolf in Brilon
URL:http://test.mynbv.de/event/wdm-endrunden/
END:VEVENT
END:VCALENDAR